BEGIN:VCALENDAR
VERSION:2.0
PRODID:-//Charleston Parkinson&#039;s Disease Support Groups - ECPv6.15.14//NONSGML v1.0//EN
CALSCALE:GREGORIAN
METHOD:PUBLISH
X-ORIGINAL-URL:https://lowcountrypdsupport.org
X-WR-CALDESC:Events for Charleston Parkinson&#039;s Disease Support Groups
REFRESH-INTERVAL;VALUE=DURATION:PT1H
X-Robots-Tag:noindex
X-PUBLISHED-TTL:PT1H
BEGIN:VTIMEZONE
TZID:America/New_York
BEGIN:DAYLIGHT
TZOFFSETFROM:-0500
TZOFFSETTO:-0400
TZNAME:EDT
DTSTART:20250309T070000
END:DAYLIGHT
BEGIN:STANDARD
TZOFFSETFROM:-0400
TZOFFSETTO:-0500
TZNAME:EST
DTSTART:20251102T060000
END:STANDARD
BEGIN:DAYLIGHT
TZOFFSETFROM:-0500
TZOFFSETTO:-0400
TZNAME:EDT
DTSTART:20260308T070000
END:DAYLIGHT
BEGIN:STANDARD
TZOFFSETFROM:-0400
TZOFFSETTO:-0500
TZNAME:EST
DTSTART:20261101T060000
END:STANDARD
BEGIN:DAYLIGHT
TZOFFSETFROM:-0500
TZOFFSETTO:-0400
TZNAME:EDT
DTSTART:20270314T070000
END:DAYLIGHT
BEGIN:STANDARD
TZOFFSETFROM:-0400
TZOFFSETTO:-0500
TZNAME:EST
DTSTART:20271107T060000
END:STANDARD
END:VTIMEZONE
BEGIN:VEVENT
DTSTART;TZID=America/New_York:20261201T130000
DTEND;TZID=America/New_York:20261201T140000
DTSTAMP:20260421T042358
CREATED:20251029T030338Z
LAST-MODIFIED:20260120T213516Z
UID:10000110-1796130000-1796133600@lowcountrypdsupport.org
SUMMARY:(PWR!Moves)
DESCRIPTION:
URL:https://lowcountrypdsupport.org/event/pwrmoves-4/2026-12-01/
LOCATION:Cane Bay Family YMCA\, 1655 Cane Bay Boulevard\, Summerville\, SC\, 294863\, United States
CATEGORIES:Parkinson Wellness Recovery
END:VEVENT
BEGIN:VEVENT
DTSTART;TZID=America/New_York:20261203T130000
DTEND;TZID=America/New_York:20261203T140000
DTSTAMP:20260421T042358
CREATED:20251029T023527Z
LAST-MODIFIED:20260120T212813Z
UID:10000371-1796302800-1796306400@lowcountrypdsupport.org
SUMMARY:(PWR!Moves)
DESCRIPTION:Parkinson’s-specific exercises that help maintain and restore skills that have deteriorated and can interfere with everyday movements.
URL:https://lowcountrypdsupport.org/event/pwrmoves/2026-12-03/
LOCATION:Cane Bay Family YMCA\, 1655 Cane Bay Boulevard\, Summerville\, SC\, 294863\, United States
CATEGORIES:Parkinson Wellness Recovery
END:VEVENT
BEGIN:VEVENT
DTSTART;TZID=America/New_York:20261208T130000
DTEND;TZID=America/New_York:20261208T140000
DTSTAMP:20260421T042358
CREATED:20251029T030338Z
LAST-MODIFIED:20260120T213516Z
UID:10000111-1796734800-1796738400@lowcountrypdsupport.org
SUMMARY:(PWR!Moves)
DESCRIPTION:
URL:https://lowcountrypdsupport.org/event/pwrmoves-4/2026-12-08/
LOCATION:Cane Bay Family YMCA\, 1655 Cane Bay Boulevard\, Summerville\, SC\, 294863\, United States
CATEGORIES:Parkinson Wellness Recovery
END:VEVENT
BEGIN:VEVENT
DTSTART;TZID=America/New_York:20261210T130000
DTEND;TZID=America/New_York:20261210T140000
DTSTAMP:20260421T042358
CREATED:20251029T023527Z
LAST-MODIFIED:20260120T212813Z
UID:10000372-1796907600-1796911200@lowcountrypdsupport.org
SUMMARY:(PWR!Moves)
DESCRIPTION:Parkinson’s-specific exercises that help maintain and restore skills that have deteriorated and can interfere with everyday movements.
URL:https://lowcountrypdsupport.org/event/pwrmoves/2026-12-10/
LOCATION:Cane Bay Family YMCA\, 1655 Cane Bay Boulevard\, Summerville\, SC\, 294863\, United States
CATEGORIES:Parkinson Wellness Recovery
END:VEVENT
BEGIN:VEVENT
DTSTART;TZID=America/New_York:20261215T130000
DTEND;TZID=America/New_York:20261215T140000
DTSTAMP:20260421T042358
CREATED:20251029T030338Z
LAST-MODIFIED:20260120T213516Z
UID:10000112-1797339600-1797343200@lowcountrypdsupport.org
SUMMARY:(PWR!Moves)
DESCRIPTION:
URL:https://lowcountrypdsupport.org/event/pwrmoves-4/2026-12-15/
LOCATION:Cane Bay Family YMCA\, 1655 Cane Bay Boulevard\, Summerville\, SC\, 294863\, United States
CATEGORIES:Parkinson Wellness Recovery
END:VEVENT
BEGIN:VEVENT
DTSTART;TZID=America/New_York:20261217T130000
DTEND;TZID=America/New_York:20261217T140000
DTSTAMP:20260421T042358
CREATED:20251029T023527Z
LAST-MODIFIED:20260120T212813Z
UID:10000373-1797512400-1797516000@lowcountrypdsupport.org
SUMMARY:(PWR!Moves)
DESCRIPTION:Parkinson’s-specific exercises that help maintain and restore skills that have deteriorated and can interfere with everyday movements.
URL:https://lowcountrypdsupport.org/event/pwrmoves/2026-12-17/
LOCATION:Cane Bay Family YMCA\, 1655 Cane Bay Boulevard\, Summerville\, SC\, 294863\, United States
CATEGORIES:Parkinson Wellness Recovery
END:VEVENT
BEGIN:VEVENT
DTSTART;TZID=America/New_York:20261222T130000
DTEND;TZID=America/New_York:20261222T140000
DTSTAMP:20260421T042358
CREATED:20251029T030338Z
LAST-MODIFIED:20260120T213516Z
UID:10000113-1797944400-1797948000@lowcountrypdsupport.org
SUMMARY:(PWR!Moves)
DESCRIPTION:
URL:https://lowcountrypdsupport.org/event/pwrmoves-4/2026-12-22/
LOCATION:Cane Bay Family YMCA\, 1655 Cane Bay Boulevard\, Summerville\, SC\, 294863\, United States
CATEGORIES:Parkinson Wellness Recovery
END:VEVENT
BEGIN:VEVENT
DTSTART;TZID=America/New_York:20261224T130000
DTEND;TZID=America/New_York:20261224T140000
DTSTAMP:20260421T042358
CREATED:20251029T023527Z
LAST-MODIFIED:20260120T212813Z
UID:10000374-1798117200-1798120800@lowcountrypdsupport.org
SUMMARY:(PWR!Moves)
DESCRIPTION:Parkinson’s-specific exercises that help maintain and restore skills that have deteriorated and can interfere with everyday movements.
URL:https://lowcountrypdsupport.org/event/pwrmoves/2026-12-24/
LOCATION:Cane Bay Family YMCA\, 1655 Cane Bay Boulevard\, Summerville\, SC\, 294863\, United States
CATEGORIES:Parkinson Wellness Recovery
END:VEVENT
BEGIN:VEVENT
DTSTART;TZID=America/New_York:20261229T130000
DTEND;TZID=America/New_York:20261229T140000
DTSTAMP:20260421T042358
CREATED:20251029T030338Z
LAST-MODIFIED:20260120T213516Z
UID:10000114-1798549200-1798552800@lowcountrypdsupport.org
SUMMARY:(PWR!Moves)
DESCRIPTION:
URL:https://lowcountrypdsupport.org/event/pwrmoves-4/2026-12-29/
LOCATION:Cane Bay Family YMCA\, 1655 Cane Bay Boulevard\, Summerville\, SC\, 294863\, United States
CATEGORIES:Parkinson Wellness Recovery
END:VEVENT
BEGIN:VEVENT
DTSTART;TZID=America/New_York:20261231T130000
DTEND;TZID=America/New_York:20261231T140000
DTSTAMP:20260421T042358
CREATED:20251029T023527Z
LAST-MODIFIED:20260120T212813Z
UID:10000375-1798722000-1798725600@lowcountrypdsupport.org
SUMMARY:(PWR!Moves)
DESCRIPTION:Parkinson’s-specific exercises that help maintain and restore skills that have deteriorated and can interfere with everyday movements.
URL:https://lowcountrypdsupport.org/event/pwrmoves/2026-12-31/
LOCATION:Cane Bay Family YMCA\, 1655 Cane Bay Boulevard\, Summerville\, SC\, 294863\, United States
CATEGORIES:Parkinson Wellness Recovery
END:VEVENT
END:VCALENDAR