BEGIN:VCALENDAR
VERSION:2.0
PRODID:-//Charleston Parkinson&#039;s Disease Support Groups - ECPv6.15.14//NONSGML v1.0//EN
CALSCALE:GREGORIAN
METHOD:PUBLISH
X-WR-CALNAME:Charleston Parkinson&#039;s Disease Support Groups
X-ORIGINAL-URL:https://lowcountrypdsupport.org
X-WR-CALDESC:Events for Charleston Parkinson&#039;s Disease Support Groups
REFRESH-INTERVAL;VALUE=DURATION:PT1H
X-Robots-Tag:noindex
X-PUBLISHED-TTL:PT1H
BEGIN:VTIMEZONE
TZID:America/New_York
BEGIN:DAYLIGHT
TZOFFSETFROM:-0500
TZOFFSETTO:-0400
TZNAME:EDT
DTSTART:20260308T070000
END:DAYLIGHT
BEGIN:STANDARD
TZOFFSETFROM:-0400
TZOFFSETTO:-0500
TZNAME:EST
DTSTART:20261101T060000
END:STANDARD
BEGIN:DAYLIGHT
TZOFFSETFROM:-0500
TZOFFSETTO:-0400
TZNAME:EDT
DTSTART:20270314T070000
END:DAYLIGHT
BEGIN:STANDARD
TZOFFSETFROM:-0400
TZOFFSETTO:-0500
TZNAME:EST
DTSTART:20271107T060000
END:STANDARD
BEGIN:DAYLIGHT
TZOFFSETFROM:-0500
TZOFFSETTO:-0400
TZNAME:EDT
DTSTART:20280312T070000
END:DAYLIGHT
BEGIN:STANDARD
TZOFFSETFROM:-0400
TZOFFSETTO:-0500
TZNAME:EST
DTSTART:20281105T060000
END:STANDARD
END:VTIMEZONE
BEGIN:VEVENT
DTSTART;TZID=America/New_York:20270401T130000
DTEND;TZID=America/New_York:20270401T140000
DTSTAMP:20260422T190417
CREATED:20251029T023527Z
LAST-MODIFIED:20260120T212813Z
UID:10000388-1806584400-1806588000@lowcountrypdsupport.org
SUMMARY:(PWR!Moves)
DESCRIPTION:Parkinson’s-specific exercises that help maintain and restore skills that have deteriorated and can interfere with everyday movements.
URL:https://lowcountrypdsupport.org/event/pwrmoves/2027-04-01/
LOCATION:Cane Bay Family YMCA\, 1655 Cane Bay Boulevard\, Summerville\, SC\, 294863\, United States
CATEGORIES:Parkinson Wellness Recovery
END:VEVENT
BEGIN:VEVENT
DTSTART;TZID=America/New_York:20270406T130000
DTEND;TZID=America/New_York:20270406T140000
DTSTAMP:20260422T190417
CREATED:20251029T030338Z
LAST-MODIFIED:20260120T213516Z
UID:10000128-1807016400-1807020000@lowcountrypdsupport.org
SUMMARY:(PWR!Moves)
DESCRIPTION:
URL:https://lowcountrypdsupport.org/event/pwrmoves-4/2027-04-06/
LOCATION:Cane Bay Family YMCA\, 1655 Cane Bay Boulevard\, Summerville\, SC\, 294863\, United States
CATEGORIES:Parkinson Wellness Recovery
END:VEVENT
BEGIN:VEVENT
DTSTART;TZID=America/New_York:20270408T130000
DTEND;TZID=America/New_York:20270408T140000
DTSTAMP:20260422T190417
CREATED:20251029T023527Z
LAST-MODIFIED:20260120T212813Z
UID:10000389-1807189200-1807192800@lowcountrypdsupport.org
SUMMARY:(PWR!Moves)
DESCRIPTION:Parkinson’s-specific exercises that help maintain and restore skills that have deteriorated and can interfere with everyday movements.
URL:https://lowcountrypdsupport.org/event/pwrmoves/2027-04-08/
LOCATION:Cane Bay Family YMCA\, 1655 Cane Bay Boulevard\, Summerville\, SC\, 294863\, United States
CATEGORIES:Parkinson Wellness Recovery
END:VEVENT
BEGIN:VEVENT
DTSTART;TZID=America/New_York:20270413T130000
DTEND;TZID=America/New_York:20270413T140000
DTSTAMP:20260422T190417
CREATED:20251029T030338Z
LAST-MODIFIED:20260120T213516Z
UID:10000129-1807621200-1807624800@lowcountrypdsupport.org
SUMMARY:(PWR!Moves)
DESCRIPTION:
URL:https://lowcountrypdsupport.org/event/pwrmoves-4/2027-04-13/
LOCATION:Cane Bay Family YMCA\, 1655 Cane Bay Boulevard\, Summerville\, SC\, 294863\, United States
CATEGORIES:Parkinson Wellness Recovery
END:VEVENT
BEGIN:VEVENT
DTSTART;TZID=America/New_York:20270415T130000
DTEND;TZID=America/New_York:20270415T140000
DTSTAMP:20260422T190417
CREATED:20251029T023527Z
LAST-MODIFIED:20260120T212813Z
UID:10000390-1807794000-1807797600@lowcountrypdsupport.org
SUMMARY:(PWR!Moves)
DESCRIPTION:Parkinson’s-specific exercises that help maintain and restore skills that have deteriorated and can interfere with everyday movements.
URL:https://lowcountrypdsupport.org/event/pwrmoves/2027-04-15/
LOCATION:Cane Bay Family YMCA\, 1655 Cane Bay Boulevard\, Summerville\, SC\, 294863\, United States
CATEGORIES:Parkinson Wellness Recovery
END:VEVENT
BEGIN:VEVENT
DTSTART;TZID=America/New_York:20270420T130000
DTEND;TZID=America/New_York:20270420T140000
DTSTAMP:20260422T190417
CREATED:20251029T030338Z
LAST-MODIFIED:20260120T213516Z
UID:10000130-1808226000-1808229600@lowcountrypdsupport.org
SUMMARY:(PWR!Moves)
DESCRIPTION:
URL:https://lowcountrypdsupport.org/event/pwrmoves-4/2027-04-20/
LOCATION:Cane Bay Family YMCA\, 1655 Cane Bay Boulevard\, Summerville\, SC\, 294863\, United States
CATEGORIES:Parkinson Wellness Recovery
END:VEVENT
BEGIN:VEVENT
DTSTART;TZID=America/New_York:20270422T130000
DTEND;TZID=America/New_York:20270422T140000
DTSTAMP:20260422T190417
CREATED:20251029T023527Z
LAST-MODIFIED:20260120T212813Z
UID:10000391-1808398800-1808402400@lowcountrypdsupport.org
SUMMARY:(PWR!Moves)
DESCRIPTION:Parkinson’s-specific exercises that help maintain and restore skills that have deteriorated and can interfere with everyday movements.
URL:https://lowcountrypdsupport.org/event/pwrmoves/2027-04-22/
LOCATION:Cane Bay Family YMCA\, 1655 Cane Bay Boulevard\, Summerville\, SC\, 294863\, United States
CATEGORIES:Parkinson Wellness Recovery
END:VEVENT
BEGIN:VEVENT
DTSTART;TZID=America/New_York:20270427T130000
DTEND;TZID=America/New_York:20270427T140000
DTSTAMP:20260422T190417
CREATED:20251029T030338Z
LAST-MODIFIED:20260120T213516Z
UID:10000131-1808830800-1808834400@lowcountrypdsupport.org
SUMMARY:(PWR!Moves)
DESCRIPTION:
URL:https://lowcountrypdsupport.org/event/pwrmoves-4/2027-04-27/
LOCATION:Cane Bay Family YMCA\, 1655 Cane Bay Boulevard\, Summerville\, SC\, 294863\, United States
CATEGORIES:Parkinson Wellness Recovery
END:VEVENT
BEGIN:VEVENT
DTSTART;TZID=America/New_York:20270429T130000
DTEND;TZID=America/New_York:20270429T140000
DTSTAMP:20260422T190417
CREATED:20251029T023527Z
LAST-MODIFIED:20260120T212813Z
UID:10000392-1809003600-1809007200@lowcountrypdsupport.org
SUMMARY:(PWR!Moves)
DESCRIPTION:Parkinson’s-specific exercises that help maintain and restore skills that have deteriorated and can interfere with everyday movements.
URL:https://lowcountrypdsupport.org/event/pwrmoves/2027-04-29/
LOCATION:Cane Bay Family YMCA\, 1655 Cane Bay Boulevard\, Summerville\, SC\, 294863\, United States
CATEGORIES:Parkinson Wellness Recovery
END:VEVENT
END:VCALENDAR