BEGIN:VCALENDAR
VERSION:2.0
PRODID:-//Charleston Parkinson&#039;s Disease Support Groups - ECPv6.15.14//NONSGML v1.0//EN
CALSCALE:GREGORIAN
METHOD:PUBLISH
X-WR-CALNAME:Charleston Parkinson&#039;s Disease Support Groups
X-ORIGINAL-URL:https://lowcountrypdsupport.org
X-WR-CALDESC:Events for Charleston Parkinson&#039;s Disease Support Groups
REFRESH-INTERVAL;VALUE=DURATION:PT1H
X-Robots-Tag:noindex
X-PUBLISHED-TTL:PT1H
BEGIN:VTIMEZONE
TZID:America/New_York
BEGIN:DAYLIGHT
TZOFFSETFROM:-0500
TZOFFSETTO:-0400
TZNAME:EDT
DTSTART:20260308T070000
END:DAYLIGHT
BEGIN:STANDARD
TZOFFSETFROM:-0400
TZOFFSETTO:-0500
TZNAME:EST
DTSTART:20261101T060000
END:STANDARD
BEGIN:DAYLIGHT
TZOFFSETFROM:-0500
TZOFFSETTO:-0400
TZNAME:EDT
DTSTART:20270314T070000
END:DAYLIGHT
BEGIN:STANDARD
TZOFFSETFROM:-0400
TZOFFSETTO:-0500
TZNAME:EST
DTSTART:20271107T060000
END:STANDARD
BEGIN:DAYLIGHT
TZOFFSETFROM:-0500
TZOFFSETTO:-0400
TZNAME:EDT
DTSTART:20280312T070000
END:DAYLIGHT
BEGIN:STANDARD
TZOFFSETFROM:-0400
TZOFFSETTO:-0500
TZNAME:EST
DTSTART:20281105T060000
END:STANDARD
END:VTIMEZONE
BEGIN:VEVENT
DTSTART;TZID=America/New_York:20270701T130000
DTEND;TZID=America/New_York:20270701T140000
DTSTAMP:20260422T234908
CREATED:20251029T023527Z
LAST-MODIFIED:20260120T212813Z
UID:10000401-1814446800-1814450400@lowcountrypdsupport.org
SUMMARY:(PWR!Moves)
DESCRIPTION:Parkinson’s-specific exercises that help maintain and restore skills that have deteriorated and can interfere with everyday movements.
URL:https://lowcountrypdsupport.org/event/pwrmoves/2027-07-01/
LOCATION:Cane Bay Family YMCA\, 1655 Cane Bay Boulevard\, Summerville\, SC\, 294863\, United States
CATEGORIES:Parkinson Wellness Recovery
END:VEVENT
BEGIN:VEVENT
DTSTART;TZID=America/New_York:20270706T130000
DTEND;TZID=America/New_York:20270706T140000
DTSTAMP:20260422T234908
CREATED:20251029T030338Z
LAST-MODIFIED:20260120T213516Z
UID:10000141-1814878800-1814882400@lowcountrypdsupport.org
SUMMARY:(PWR!Moves)
DESCRIPTION:
URL:https://lowcountrypdsupport.org/event/pwrmoves-4/2027-07-06/
LOCATION:Cane Bay Family YMCA\, 1655 Cane Bay Boulevard\, Summerville\, SC\, 294863\, United States
CATEGORIES:Parkinson Wellness Recovery
END:VEVENT
BEGIN:VEVENT
DTSTART;TZID=America/New_York:20270708T130000
DTEND;TZID=America/New_York:20270708T140000
DTSTAMP:20260422T234908
CREATED:20251029T023527Z
LAST-MODIFIED:20260120T212813Z
UID:10000402-1815051600-1815055200@lowcountrypdsupport.org
SUMMARY:(PWR!Moves)
DESCRIPTION:Parkinson’s-specific exercises that help maintain and restore skills that have deteriorated and can interfere with everyday movements.
URL:https://lowcountrypdsupport.org/event/pwrmoves/2027-07-08/
LOCATION:Cane Bay Family YMCA\, 1655 Cane Bay Boulevard\, Summerville\, SC\, 294863\, United States
CATEGORIES:Parkinson Wellness Recovery
END:VEVENT
BEGIN:VEVENT
DTSTART;TZID=America/New_York:20270713T130000
DTEND;TZID=America/New_York:20270713T140000
DTSTAMP:20260422T234908
CREATED:20251029T030338Z
LAST-MODIFIED:20260120T213516Z
UID:10000142-1815483600-1815487200@lowcountrypdsupport.org
SUMMARY:(PWR!Moves)
DESCRIPTION:
URL:https://lowcountrypdsupport.org/event/pwrmoves-4/2027-07-13/
LOCATION:Cane Bay Family YMCA\, 1655 Cane Bay Boulevard\, Summerville\, SC\, 294863\, United States
CATEGORIES:Parkinson Wellness Recovery
END:VEVENT
BEGIN:VEVENT
DTSTART;TZID=America/New_York:20270715T130000
DTEND;TZID=America/New_York:20270715T140000
DTSTAMP:20260422T234908
CREATED:20251029T023527Z
LAST-MODIFIED:20260120T212813Z
UID:10000403-1815656400-1815660000@lowcountrypdsupport.org
SUMMARY:(PWR!Moves)
DESCRIPTION:Parkinson’s-specific exercises that help maintain and restore skills that have deteriorated and can interfere with everyday movements.
URL:https://lowcountrypdsupport.org/event/pwrmoves/2027-07-15/
LOCATION:Cane Bay Family YMCA\, 1655 Cane Bay Boulevard\, Summerville\, SC\, 294863\, United States
CATEGORIES:Parkinson Wellness Recovery
END:VEVENT
BEGIN:VEVENT
DTSTART;TZID=America/New_York:20270720T130000
DTEND;TZID=America/New_York:20270720T140000
DTSTAMP:20260422T234908
CREATED:20251029T030338Z
LAST-MODIFIED:20260120T213516Z
UID:10000143-1816088400-1816092000@lowcountrypdsupport.org
SUMMARY:(PWR!Moves)
DESCRIPTION:
URL:https://lowcountrypdsupport.org/event/pwrmoves-4/2027-07-20/
LOCATION:Cane Bay Family YMCA\, 1655 Cane Bay Boulevard\, Summerville\, SC\, 294863\, United States
CATEGORIES:Parkinson Wellness Recovery
END:VEVENT
BEGIN:VEVENT
DTSTART;TZID=America/New_York:20270722T130000
DTEND;TZID=America/New_York:20270722T140000
DTSTAMP:20260422T234908
CREATED:20251029T023527Z
LAST-MODIFIED:20260120T212813Z
UID:10000404-1816261200-1816264800@lowcountrypdsupport.org
SUMMARY:(PWR!Moves)
DESCRIPTION:Parkinson’s-specific exercises that help maintain and restore skills that have deteriorated and can interfere with everyday movements.
URL:https://lowcountrypdsupport.org/event/pwrmoves/2027-07-22/
LOCATION:Cane Bay Family YMCA\, 1655 Cane Bay Boulevard\, Summerville\, SC\, 294863\, United States
CATEGORIES:Parkinson Wellness Recovery
END:VEVENT
BEGIN:VEVENT
DTSTART;TZID=America/New_York:20270727T130000
DTEND;TZID=America/New_York:20270727T140000
DTSTAMP:20260422T234908
CREATED:20251029T030338Z
LAST-MODIFIED:20260120T213516Z
UID:10000144-1816693200-1816696800@lowcountrypdsupport.org
SUMMARY:(PWR!Moves)
DESCRIPTION:
URL:https://lowcountrypdsupport.org/event/pwrmoves-4/2027-07-27/
LOCATION:Cane Bay Family YMCA\, 1655 Cane Bay Boulevard\, Summerville\, SC\, 294863\, United States
CATEGORIES:Parkinson Wellness Recovery
END:VEVENT
BEGIN:VEVENT
DTSTART;TZID=America/New_York:20270729T130000
DTEND;TZID=America/New_York:20270729T140000
DTSTAMP:20260422T234908
CREATED:20251029T023527Z
LAST-MODIFIED:20260120T212813Z
UID:10000405-1816866000-1816869600@lowcountrypdsupport.org
SUMMARY:(PWR!Moves)
DESCRIPTION:Parkinson’s-specific exercises that help maintain and restore skills that have deteriorated and can interfere with everyday movements.
URL:https://lowcountrypdsupport.org/event/pwrmoves/2027-07-29/
LOCATION:Cane Bay Family YMCA\, 1655 Cane Bay Boulevard\, Summerville\, SC\, 294863\, United States
CATEGORIES:Parkinson Wellness Recovery
END:VEVENT
END:VCALENDAR