BEGIN:VCALENDAR
VERSION:2.0
PRODID:-//Charleston Parkinson&#039;s Disease Support Groups - ECPv6.15.14//NONSGML v1.0//EN
CALSCALE:GREGORIAN
METHOD:PUBLISH
X-WR-CALNAME:Charleston Parkinson&#039;s Disease Support Groups
X-ORIGINAL-URL:https://lowcountrypdsupport.org
X-WR-CALDESC:Events for Charleston Parkinson&#039;s Disease Support Groups
REFRESH-INTERVAL;VALUE=DURATION:PT1H
X-Robots-Tag:noindex
X-PUBLISHED-TTL:PT1H
BEGIN:VTIMEZONE
TZID:America/New_York
BEGIN:DAYLIGHT
TZOFFSETFROM:-0500
TZOFFSETTO:-0400
TZNAME:EDT
DTSTART:20260308T070000
END:DAYLIGHT
BEGIN:STANDARD
TZOFFSETFROM:-0400
TZOFFSETTO:-0500
TZNAME:EST
DTSTART:20261101T060000
END:STANDARD
BEGIN:DAYLIGHT
TZOFFSETFROM:-0500
TZOFFSETTO:-0400
TZNAME:EDT
DTSTART:20270314T070000
END:DAYLIGHT
BEGIN:STANDARD
TZOFFSETFROM:-0400
TZOFFSETTO:-0500
TZNAME:EST
DTSTART:20271107T060000
END:STANDARD
BEGIN:DAYLIGHT
TZOFFSETFROM:-0500
TZOFFSETTO:-0400
TZNAME:EDT
DTSTART:20280312T070000
END:DAYLIGHT
BEGIN:STANDARD
TZOFFSETFROM:-0400
TZOFFSETTO:-0500
TZNAME:EST
DTSTART:20281105T060000
END:STANDARD
END:VTIMEZONE
BEGIN:VEVENT
DTSTART;TZID=America/New_York:20270803T130000
DTEND;TZID=America/New_York:20270803T140000
DTSTAMP:20260423T013917
CREATED:20251029T030338Z
LAST-MODIFIED:20260120T213516Z
UID:10000145-1817298000-1817301600@lowcountrypdsupport.org
SUMMARY:(PWR!Moves)
DESCRIPTION:
URL:https://lowcountrypdsupport.org/event/pwrmoves-4/2027-08-03/
LOCATION:Cane Bay Family YMCA\, 1655 Cane Bay Boulevard\, Summerville\, SC\, 294863\, United States
CATEGORIES:Parkinson Wellness Recovery
END:VEVENT
BEGIN:VEVENT
DTSTART;TZID=America/New_York:20270805T130000
DTEND;TZID=America/New_York:20270805T140000
DTSTAMP:20260423T013917
CREATED:20251029T023527Z
LAST-MODIFIED:20260120T212813Z
UID:10000406-1817470800-1817474400@lowcountrypdsupport.org
SUMMARY:(PWR!Moves)
DESCRIPTION:Parkinson’s-specific exercises that help maintain and restore skills that have deteriorated and can interfere with everyday movements.
URL:https://lowcountrypdsupport.org/event/pwrmoves/2027-08-05/
LOCATION:Cane Bay Family YMCA\, 1655 Cane Bay Boulevard\, Summerville\, SC\, 294863\, United States
CATEGORIES:Parkinson Wellness Recovery
END:VEVENT
BEGIN:VEVENT
DTSTART;TZID=America/New_York:20270810T130000
DTEND;TZID=America/New_York:20270810T140000
DTSTAMP:20260423T013917
CREATED:20251029T030338Z
LAST-MODIFIED:20260120T213516Z
UID:10000146-1817902800-1817906400@lowcountrypdsupport.org
SUMMARY:(PWR!Moves)
DESCRIPTION:
URL:https://lowcountrypdsupport.org/event/pwrmoves-4/2027-08-10/
LOCATION:Cane Bay Family YMCA\, 1655 Cane Bay Boulevard\, Summerville\, SC\, 294863\, United States
CATEGORIES:Parkinson Wellness Recovery
END:VEVENT
BEGIN:VEVENT
DTSTART;TZID=America/New_York:20270812T130000
DTEND;TZID=America/New_York:20270812T140000
DTSTAMP:20260423T013917
CREATED:20251029T023527Z
LAST-MODIFIED:20260120T212813Z
UID:10000407-1818075600-1818079200@lowcountrypdsupport.org
SUMMARY:(PWR!Moves)
DESCRIPTION:Parkinson’s-specific exercises that help maintain and restore skills that have deteriorated and can interfere with everyday movements.
URL:https://lowcountrypdsupport.org/event/pwrmoves/2027-08-12/
LOCATION:Cane Bay Family YMCA\, 1655 Cane Bay Boulevard\, Summerville\, SC\, 294863\, United States
CATEGORIES:Parkinson Wellness Recovery
END:VEVENT
BEGIN:VEVENT
DTSTART;TZID=America/New_York:20270817T130000
DTEND;TZID=America/New_York:20270817T140000
DTSTAMP:20260423T013917
CREATED:20251029T030338Z
LAST-MODIFIED:20260120T213516Z
UID:10000147-1818507600-1818511200@lowcountrypdsupport.org
SUMMARY:(PWR!Moves)
DESCRIPTION:
URL:https://lowcountrypdsupport.org/event/pwrmoves-4/2027-08-17/
LOCATION:Cane Bay Family YMCA\, 1655 Cane Bay Boulevard\, Summerville\, SC\, 294863\, United States
CATEGORIES:Parkinson Wellness Recovery
END:VEVENT
BEGIN:VEVENT
DTSTART;TZID=America/New_York:20270819T130000
DTEND;TZID=America/New_York:20270819T140000
DTSTAMP:20260423T013917
CREATED:20251029T023527Z
LAST-MODIFIED:20260120T212813Z
UID:10000408-1818680400-1818684000@lowcountrypdsupport.org
SUMMARY:(PWR!Moves)
DESCRIPTION:Parkinson’s-specific exercises that help maintain and restore skills that have deteriorated and can interfere with everyday movements.
URL:https://lowcountrypdsupport.org/event/pwrmoves/2027-08-19/
LOCATION:Cane Bay Family YMCA\, 1655 Cane Bay Boulevard\, Summerville\, SC\, 294863\, United States
CATEGORIES:Parkinson Wellness Recovery
END:VEVENT
BEGIN:VEVENT
DTSTART;TZID=America/New_York:20270824T130000
DTEND;TZID=America/New_York:20270824T140000
DTSTAMP:20260423T013917
CREATED:20251029T030338Z
LAST-MODIFIED:20260120T213516Z
UID:10000148-1819112400-1819116000@lowcountrypdsupport.org
SUMMARY:(PWR!Moves)
DESCRIPTION:
URL:https://lowcountrypdsupport.org/event/pwrmoves-4/2027-08-24/
LOCATION:Cane Bay Family YMCA\, 1655 Cane Bay Boulevard\, Summerville\, SC\, 294863\, United States
CATEGORIES:Parkinson Wellness Recovery
END:VEVENT
BEGIN:VEVENT
DTSTART;TZID=America/New_York:20270826T130000
DTEND;TZID=America/New_York:20270826T140000
DTSTAMP:20260423T013917
CREATED:20251029T023527Z
LAST-MODIFIED:20260120T212813Z
UID:10000409-1819285200-1819288800@lowcountrypdsupport.org
SUMMARY:(PWR!Moves)
DESCRIPTION:Parkinson’s-specific exercises that help maintain and restore skills that have deteriorated and can interfere with everyday movements.
URL:https://lowcountrypdsupport.org/event/pwrmoves/2027-08-26/
LOCATION:Cane Bay Family YMCA\, 1655 Cane Bay Boulevard\, Summerville\, SC\, 294863\, United States
CATEGORIES:Parkinson Wellness Recovery
END:VEVENT
BEGIN:VEVENT
DTSTART;TZID=America/New_York:20270831T130000
DTEND;TZID=America/New_York:20270831T140000
DTSTAMP:20260423T013917
CREATED:20251029T030338Z
LAST-MODIFIED:20260120T213516Z
UID:10000149-1819717200-1819720800@lowcountrypdsupport.org
SUMMARY:(PWR!Moves)
DESCRIPTION:
URL:https://lowcountrypdsupport.org/event/pwrmoves-4/2027-08-31/
LOCATION:Cane Bay Family YMCA\, 1655 Cane Bay Boulevard\, Summerville\, SC\, 294863\, United States
CATEGORIES:Parkinson Wellness Recovery
END:VEVENT
END:VCALENDAR