BEGIN:VCALENDAR
VERSION:2.0
PRODID:-//Charleston Parkinson&#039;s Disease Support Groups - ECPv6.15.14//NONSGML v1.0//EN
CALSCALE:GREGORIAN
METHOD:PUBLISH
X-ORIGINAL-URL:https://lowcountrypdsupport.org
X-WR-CALDESC:Events for Charleston Parkinson&#039;s Disease Support Groups
REFRESH-INTERVAL;VALUE=DURATION:PT1H
X-Robots-Tag:noindex
X-PUBLISHED-TTL:PT1H
BEGIN:VTIMEZONE
TZID:America/New_York
BEGIN:DAYLIGHT
TZOFFSETFROM:-0500
TZOFFSETTO:-0400
TZNAME:EDT
DTSTART:20270314T070000
END:DAYLIGHT
BEGIN:STANDARD
TZOFFSETFROM:-0400
TZOFFSETTO:-0500
TZNAME:EST
DTSTART:20271107T060000
END:STANDARD
BEGIN:DAYLIGHT
TZOFFSETFROM:-0500
TZOFFSETTO:-0400
TZNAME:EDT
DTSTART:20280312T070000
END:DAYLIGHT
BEGIN:STANDARD
TZOFFSETFROM:-0400
TZOFFSETTO:-0500
TZNAME:EST
DTSTART:20281105T060000
END:STANDARD
BEGIN:DAYLIGHT
TZOFFSETFROM:-0500
TZOFFSETTO:-0400
TZNAME:EDT
DTSTART:20290311T070000
END:DAYLIGHT
BEGIN:STANDARD
TZOFFSETFROM:-0400
TZOFFSETTO:-0500
TZNAME:EST
DTSTART:20291104T060000
END:STANDARD
END:VTIMEZONE
BEGIN:VEVENT
DTSTART;TZID=America/New_York:20280302T130000
DTEND;TZID=America/New_York:20280302T140000
DTSTAMP:20260423T121223
CREATED:20251029T023527Z
LAST-MODIFIED:20260120T212813Z
UID:10000436-1835614800-1835618400@lowcountrypdsupport.org
SUMMARY:(PWR!Moves)
DESCRIPTION:Parkinson’s-specific exercises that help maintain and restore skills that have deteriorated and can interfere with everyday movements.
URL:https://lowcountrypdsupport.org/event/pwrmoves/2028-03-02/
LOCATION:Cane Bay Family YMCA\, 1655 Cane Bay Boulevard\, Summerville\, SC\, 294863\, United States
CATEGORIES:Parkinson Wellness Recovery
END:VEVENT
BEGIN:VEVENT
DTSTART;TZID=America/New_York:20280307T130000
DTEND;TZID=America/New_York:20280307T140000
DTSTAMP:20260423T121223
CREATED:20251029T030338Z
LAST-MODIFIED:20260120T213516Z
UID:10000176-1836046800-1836050400@lowcountrypdsupport.org
SUMMARY:(PWR!Moves)
DESCRIPTION:
URL:https://lowcountrypdsupport.org/event/pwrmoves-4/2028-03-07/
LOCATION:Cane Bay Family YMCA\, 1655 Cane Bay Boulevard\, Summerville\, SC\, 294863\, United States
CATEGORIES:Parkinson Wellness Recovery
END:VEVENT
BEGIN:VEVENT
DTSTART;TZID=America/New_York:20280309T130000
DTEND;TZID=America/New_York:20280309T140000
DTSTAMP:20260423T121223
CREATED:20251029T023527Z
LAST-MODIFIED:20260120T212813Z
UID:10000437-1836219600-1836223200@lowcountrypdsupport.org
SUMMARY:(PWR!Moves)
DESCRIPTION:Parkinson’s-specific exercises that help maintain and restore skills that have deteriorated and can interfere with everyday movements.
URL:https://lowcountrypdsupport.org/event/pwrmoves/2028-03-09/
LOCATION:Cane Bay Family YMCA\, 1655 Cane Bay Boulevard\, Summerville\, SC\, 294863\, United States
CATEGORIES:Parkinson Wellness Recovery
END:VEVENT
BEGIN:VEVENT
DTSTART;TZID=America/New_York:20280314T130000
DTEND;TZID=America/New_York:20280314T140000
DTSTAMP:20260423T121223
CREATED:20251029T030338Z
LAST-MODIFIED:20260120T213516Z
UID:10000177-1836651600-1836655200@lowcountrypdsupport.org
SUMMARY:(PWR!Moves)
DESCRIPTION:
URL:https://lowcountrypdsupport.org/event/pwrmoves-4/2028-03-14/
LOCATION:Cane Bay Family YMCA\, 1655 Cane Bay Boulevard\, Summerville\, SC\, 294863\, United States
CATEGORIES:Parkinson Wellness Recovery
END:VEVENT
BEGIN:VEVENT
DTSTART;TZID=America/New_York:20280316T130000
DTEND;TZID=America/New_York:20280316T140000
DTSTAMP:20260423T121223
CREATED:20251029T023527Z
LAST-MODIFIED:20260120T212813Z
UID:10000438-1836824400-1836828000@lowcountrypdsupport.org
SUMMARY:(PWR!Moves)
DESCRIPTION:Parkinson’s-specific exercises that help maintain and restore skills that have deteriorated and can interfere with everyday movements.
URL:https://lowcountrypdsupport.org/event/pwrmoves/2028-03-16/
LOCATION:Cane Bay Family YMCA\, 1655 Cane Bay Boulevard\, Summerville\, SC\, 294863\, United States
CATEGORIES:Parkinson Wellness Recovery
END:VEVENT
BEGIN:VEVENT
DTSTART;TZID=America/New_York:20280321T130000
DTEND;TZID=America/New_York:20280321T140000
DTSTAMP:20260423T121223
CREATED:20251029T030338Z
LAST-MODIFIED:20260120T213516Z
UID:10000178-1837256400-1837260000@lowcountrypdsupport.org
SUMMARY:(PWR!Moves)
DESCRIPTION:
URL:https://lowcountrypdsupport.org/event/pwrmoves-4/2028-03-21/
LOCATION:Cane Bay Family YMCA\, 1655 Cane Bay Boulevard\, Summerville\, SC\, 294863\, United States
CATEGORIES:Parkinson Wellness Recovery
END:VEVENT
BEGIN:VEVENT
DTSTART;TZID=America/New_York:20280323T130000
DTEND;TZID=America/New_York:20280323T140000
DTSTAMP:20260423T121223
CREATED:20251029T023527Z
LAST-MODIFIED:20260120T212813Z
UID:10000439-1837429200-1837432800@lowcountrypdsupport.org
SUMMARY:(PWR!Moves)
DESCRIPTION:Parkinson’s-specific exercises that help maintain and restore skills that have deteriorated and can interfere with everyday movements.
URL:https://lowcountrypdsupport.org/event/pwrmoves/2028-03-23/
LOCATION:Cane Bay Family YMCA\, 1655 Cane Bay Boulevard\, Summerville\, SC\, 294863\, United States
CATEGORIES:Parkinson Wellness Recovery
END:VEVENT
BEGIN:VEVENT
DTSTART;TZID=America/New_York:20280328T130000
DTEND;TZID=America/New_York:20280328T140000
DTSTAMP:20260423T121223
CREATED:20251029T030338Z
LAST-MODIFIED:20260120T213516Z
UID:10000179-1837861200-1837864800@lowcountrypdsupport.org
SUMMARY:(PWR!Moves)
DESCRIPTION:
URL:https://lowcountrypdsupport.org/event/pwrmoves-4/2028-03-28/
LOCATION:Cane Bay Family YMCA\, 1655 Cane Bay Boulevard\, Summerville\, SC\, 294863\, United States
CATEGORIES:Parkinson Wellness Recovery
END:VEVENT
BEGIN:VEVENT
DTSTART;TZID=America/New_York:20280330T130000
DTEND;TZID=America/New_York:20280330T140000
DTSTAMP:20260423T121223
CREATED:20251029T023527Z
LAST-MODIFIED:20260120T212813Z
UID:10000440-1838034000-1838037600@lowcountrypdsupport.org
SUMMARY:(PWR!Moves)
DESCRIPTION:Parkinson’s-specific exercises that help maintain and restore skills that have deteriorated and can interfere with everyday movements.
URL:https://lowcountrypdsupport.org/event/pwrmoves/2028-03-30/
LOCATION:Cane Bay Family YMCA\, 1655 Cane Bay Boulevard\, Summerville\, SC\, 294863\, United States
CATEGORIES:Parkinson Wellness Recovery
END:VEVENT
END:VCALENDAR